BEGIN:VCALENDAR
VERSION:2.0
PRODID:gruene-kreis-biberach.de
METHOD:PUBLISH
BEGIN:VTIMEZONE
TZID:Europe/Berlin
X-LIC-LOCATION:Europe/Berlin
BEGIN:DAYLIGHT
TZOFFSETFROM:+0100
TZOFFSETTO:+0200
TZNAME:CEST
DTSTART:19700329T020000
RRULE:FREQ=YEARLY;INTERVAL=1;BYDAY=-1SU;BYMONTH=3
END:DAYLIGHT
BEGIN:STANDARD
TZOFFSETFROM:+0200
TZOFFSETTO:+0100
TZNAME:CET
DTSTART:19701025T030000
RRULE:FREQ=YEARLY;INTERVAL=1;BYDAY=-1SU;BYMONTH=10
END:STANDARD
END:VTIMEZONE
BEGIN:VEVENT
UID:86ba0b8b8e2803c4ac4f832fce8b3024@gruene-kreis-biberach.de
URL;VALUE=URI:https://gruene-kreis-biberach.de/termine/politischer-ascher
 mittwoch-2024/
LOCATION:Stadhalle Biberach, Biberach an der Riß
SUMMARY:Politischer Aschermittwoch 2024
DESCRIPTION;ALTREP="data:text/html,%0A%3Cp%3EAuch%20im%20Jahr%202024%20wa
 rtet%20der%20Kreisverband%20Biberach%20von%20B%C3%BCndnis%2090%2FDie%20Gr
 %C3%BCnen%20wieder%20prominenten%20G%C3%A4sten%20zur%20traditionellen%20A
 schermittwochsveranstaltung%20auf.%20Bei%20der%20von%20MdB%20Anja%20Reina
 lter%20moderierten%20Veranstaltungen%20stehen%20dieses%20Mal%20vier%20bun
 desweit%20bekannte%20Rednerinnen%20und%20Redner%20auf%20der%20B%C3%BChne.
 %3C%2Fp%3E%0A%0A%0A%0A%3Cp%3EErstmals%20in%20Biberach%20sprechen%20wird%2
 0Ricarda%20Lang%2C%20die%20Bundesvorsitzende%20von%20B%C3%BCndnis%2090%2F
 Die%20Gr%C3%BCnen.%20Lang%2C%20die%20die%20Partei%20seit%202022%20f%C3%BC
 hrt%2C%20ist%20Mitglied%20des%20baden-w%C3%BCrttembergischen%20Landesverb
 ands%20und%20sitzt%20f%C3%BCr%20den%20Wahlkreis%20Backnang%20im%20Bundest
 ag.%3C%2Fp%3E%0A%0A%0A%0A%3Cp%3EEin%20ganz%20besonderer%20Gast%20ist%20J%
 C3%BCrgen%20Trittin.%20Der%20ehemalige%20Bundesvorsitzende%20und%20Umwelt
 minister%20war%20bereits%202005%20zu%20Gast%20in%20Biberach%20und%20erinn
 ert%20sich%20gerne%20an%20seinen%20damaligen%20Auftritt.%20Daher%20sagte%
 20er%20sofort%20zu%2C%20nach%20seinem%20Ausscheiden%20aus%20dem%20Bundest
 ag%20zum%20Jahreswechsel%20noch%20einmal%20zum%20politischen%20Aschermitt
 woch%20zu%20kommen.%3C%2Fp%3E%0A%0A%0A%0A%3Cp%3EMit%20Spannung%20erwartet
 %20wird%20auch%20der%20Auftritt%20von%20Cem%20%C3%96zdemir%2C%20dem%20amt
 ierenden%20Landwirtschaftsminister.%20Es%20ist%20nichts%20ein%20erster%20
 Besuch%20beim%20Politischen%20Aschermittwoch%20in%20Biberach%2C%20aufgrun
 d%20der%20Aktualit%C3%A4t%20der%20Ereignisse%20sicher%20aber%20ein%20mit%
 20Spannung%20erwarteter.%3C%2Fp%3E%0A%0A%0A%0A%3Cp%3EAbschlie%C3%9Fen%20w
 ird%20die%20Veranstaltung%20ein%20altbekannter%20Gast.%20Ministerpr%C3%A4
 sident%20Winfried%20Kretschmann%20hat%20in%20seiner%20Amtszeit%20keinen%2
 0einzigen%20Politischen%20Aschermittwoch%20verpasst%20und%20wird%20auch%2
 0dieses%20Jahr%20wieder%20interessante%20Gedanken%20mit%20dem%20Publikum%
 20teilen%2C%20aber%20auch%20nicht%20vergessen%20auf%20die%20politischen%2
 0Wettberber%20einzugehen.%3C%2Fp%3E%0A%0A%0A%0A%3Cp%3EDer%20Beginn%20der%
 20Veranstaltung%20ist%20um%2011%20Uhr%2C%20der%20Einlass%20in%20die%20Sta
 dthalle%20Biberach%20wird%20voraussichtlich%20ab%2010.15%20Uhr.%20Aufgrun
 d%20der%20Sicherheitsbestimmungen%20d%C3%BCrfen%20weder%20Jacken%20oder%2
 0M%C3%A4ntel%20noch%20gr%C3%B6%C3%9Fere%20Taschen%20in%20den%20Saal%20mit
 genommen%20werden.%20Dieses%20k%C3%B6nnen%20jedoch%20kostenlos%20an%20der
 %20Garderobe%20abgegeben%20werden.%3C%2Fp%3E%0A":Auch im Jahr 2024 wartet
  der Kreisverband Biberach von Bündnis 90/Die Grünen wieder prominenten
  Gästen zur traditionellen Aschermittwochsveranstaltung auf. Bei der von
  MdB Anja Reinalter moderierten Veranstaltungen stehen dieses Mal vier bu
 ndesweit bekannte Rednerinnen und Redner auf der Bühne.\n\nErstmals in B
 iberach sprechen wird Ricarda Lang\, die Bundesvorsitzende von Bündnis 9
 0/Die Grünen. Lang\, die die Partei seit 2022 führt\, ist Mitglied des 
 baden-württembergischen Landesverbands und sitzt für den Wahlkreis Back
 nang im Bundestag.\n\nEin ganz besonderer Gast ist Jürgen Trittin. Der e
 hemalige Bundesvorsitzende und Umweltminister war bereits 2005 zu Gast in
  Biberach und erinnert sich gerne an seinen damaligen Auftritt. Daher sag
 te er sofort zu\, nach seinem Ausscheiden aus dem Bundestag zum Jahreswec
 hsel noch einmal zum politischen Aschermittwoch zu kommen.\n\nMit Spannun
 g erwartet wird auch der Auftritt von Cem Özdemir\, dem amtierenden Land
 wirtschaftsminister. Es ist nichts ein erster Besuch beim Politischen Asc
 hermittwoch in Biberach\, aufgrund der Aktualität der Ereignisse sicher 
 aber ein mit Spannung erwarteter.\n\nAbschließen wird die Veranstaltung 
 ein altbekannter Gast. Ministerpräsident Winfried Kretschmann hat in sei
 ner Amtszeit keinen einzigen Politischen Aschermittwoch verpasst und wird
  auch dieses Jahr wieder interessante Gedanken mit dem Publikum teilen\, 
 aber auch nicht vergessen auf die politischen Wettberber einzugehen.\n\nD
 er Beginn der Veranstaltung ist um 11 Uhr\, der Einlass in die Stadthalle
  Biberach wird voraussichtlich ab 10.15 Uhr. Aufgrund der Sicherheitsbest
 immungen dürfen weder Jacken oder Mäntel noch größere Taschen in den 
 Saal mitgenommen werden. Dieses können jedoch kostenlos an der Garderobe
  abgegeben werden.
CLASS:PUBLIC
DTSTART;TZID=Europe/Berlin:20240214
DTEND;TZID=Europe/Berlin:20240214
DTSTAMP:20260421T161936
END:VEVENT
END:VCALENDAR